BEGIN:VCALENDAR
VERSION:2.0
PRODID:-//Walfoot.be//www.walfoot.be//
X-WR-TIMEZONE:Europe/Brussels
X-WR-CALNAME:Finlande
X-WR-CALDESC:Tous les matches de l&#039;équipe de Finlande en Finlande.
BEGIN:VEVENT
UID:1329663
DTSTAMP:20260421T102730Z
DTSTART:20260531T204500
DTEND:20260531T224500
LOCATION:Allianz Arena, München
SUMMARY:Allemagne - Finlande
END:VEVENT
BEGIN:VEVENT
UID:1330078
DTSTAMP:20260421T102730Z
DTSTART:20260926T180000
DTEND:20260926T200000
SUMMARY:Saint-Marin - Finlande
END:VEVENT
BEGIN:VEVENT
UID:1330102
DTSTAMP:20260421T102730Z
DTSTART:20260929T204500
DTEND:20260929T224500
SUMMARY:Finlande - Biélorussie
END:VEVENT
BEGIN:VEVENT
UID:1330127
DTSTAMP:20260421T102730Z
DTSTART:20261003T160000
DTEND:20261003T180000
SUMMARY:Finlande - Albanie
END:VEVENT
BEGIN:VEVENT
UID:1330153
DTSTAMP:20260421T102730Z
DTSTART:20261006T204500
DTEND:20261006T224500
SUMMARY:Biélorussie - Finlande
END:VEVENT
BEGIN:VEVENT
UID:1330163
DTSTAMP:20260421T102730Z
DTSTART:20261112T204500
DTEND:20261112T224500
SUMMARY:Albanie - Finlande
END:VEVENT
BEGIN:VEVENT
UID:1330184
DTSTAMP:20260421T102730Z
DTSTART:20261115T180000
DTEND:20261115T200000
SUMMARY:Finlande - Saint-Marin
END:VEVENT
END:VCALENDAR
